Package: CRISPRball Version: 1.2.0 Command: /Library/Frameworks/R.framework/Resources/bin/R CMD INSTALL CRISPRball StartedAt: 2025-01-30 16:33:14 -0500 (Thu, 30 Jan 2025) EndedAt: 2025-01-30 16:34:55 -0500 (Thu, 30 Jan 2025) EllapsedTime: 101.1 seconds RetCode: 0 Status: OK