Package: CRISPRball Version: 1.2.0 Command: /Library/Frameworks/R.framework/Resources/bin/R CMD INSTALL CRISPRball StartedAt: 2025-01-30 17:55:27 -0500 (Thu, 30 Jan 2025) EndedAt: 2025-01-30 17:56:23 -0500 (Thu, 30 Jan 2025) EllapsedTime: 56.5 seconds RetCode: 0 Status: OK