Package: CRISPRball Version: 1.2.0 Command: /Library/Frameworks/R.framework/Resources/bin/R CMD check --install=check:CRISPRball.install-out.txt --library=/Library/Frameworks/R.framework/Resources/library --no-vignettes --timings CRISPRball_1.2.0.tar.gz StartedAt: 2025-01-31 15:47:57 -0500 (Fri, 31 Jan 2025) EndedAt: 2025-01-31 15:54:56 -0500 (Fri, 31 Jan 2025) EllapsedTime: 418.9 seconds RetCode: 0 Status: OK CheckDir: CRISPRball.Rcheck Warnings: 0