Package: COCOA Version: 2.20.0 Command: F:\biocbuild\bbs-3.20-bioc\R\bin\R.exe CMD check --no-multiarch --install=check:COCOA.install-out.txt --library=F:\biocbuild\bbs-3.20-bioc\R\library --no-vignettes --timings COCOA_2.20.0.tar.gz StartedAt: 2025-01-31 00:41:48 -0500 (Fri, 31 Jan 2025) EndedAt: 2025-01-31 00:47:57 -0500 (Fri, 31 Jan 2025) EllapsedTime: 369.0 seconds RetCode: 0 Status: OK CheckDir: COCOA.Rcheck Warnings: 0