Package: COCOA Version: 2.20.0 Command: chmod a+r COCOA -R && F:\biocbuild\bbs-3.20-bioc\R\bin\R.exe CMD build --keep-empty-dirs --no-resave-data COCOA StartedAt: 2025-01-30 18:02:30 -0500 (Thu, 30 Jan 2025) EndedAt: 2025-01-30 18:04:57 -0500 (Thu, 30 Jan 2025) EllapsedTime: 147.4 seconds RetCode: 0 Status: OK PackageFile: COCOA_2.20.0.tar.gz PackageFileSize: 2.675 MiB