Package: COCOA Version: 2.20.0 Command: /Library/Frameworks/R.framework/Resources/bin/R CMD INSTALL COCOA StartedAt: 2025-01-30 16:29:24 -0500 (Thu, 30 Jan 2025) EndedAt: 2025-01-30 16:30:52 -0500 (Thu, 30 Jan 2025) EllapsedTime: 87.7 seconds RetCode: 0 Status: OK