Package: CNVrd2 Version: 1.44.0 Command: /home/biocbuild/bbs-3.20-bioc/R/bin/R CMD INSTALL CNVrd2 StartedAt: 2024-11-19 16:08:04 -0500 (Tue, 19 Nov 2024) EndedAt: 2024-11-19 16:08:42 -0500 (Tue, 19 Nov 2024) EllapsedTime: 38.5 seconds RetCode: 0 Status: OK