Package: CNVrd2 Version: 1.44.0 Command: /Library/Frameworks/R.framework/Resources/bin/R CMD INSTALL CNVrd2 StartedAt: 2025-01-30 15:42:21 -0500 (Thu, 30 Jan 2025) EndedAt: 2025-01-30 15:43:46 -0500 (Thu, 30 Jan 2025) EllapsedTime: 84.8 seconds RetCode: 0 Status: OK