Package: CNVPanelizer Version: 1.38.0 Command: /Library/Frameworks/R.framework/Resources/bin/R CMD check --install=check:CNVPanelizer.install-out.txt --library=/Library/Frameworks/R.framework/Resources/library --no-vignettes --timings CNVPanelizer_1.38.0.tar.gz StartedAt: 2025-01-31 01:53:32 -0500 (Fri, 31 Jan 2025) EndedAt: 2025-01-31 02:00:43 -0500 (Fri, 31 Jan 2025) EllapsedTime: 431.0 seconds RetCode: 0 Status: OK CheckDir: CNVPanelizer.Rcheck Warnings: 0