Package: CNORode Version: 1.48.0 Command: /home/biocbuild/R/R/bin/R CMD check --install=check:CNORode.install-out.txt --library=/home/biocbuild/R/R/site-library --no-vignettes --timings CNORode_1.48.0.tar.gz StartedAt: 2025-01-31 05:03:03 -0000 (Fri, 31 Jan 2025) EndedAt: 2025-01-31 05:04:15 -0000 (Fri, 31 Jan 2025) EllapsedTime: 72.1 seconds RetCode: 0 Status: WARNINGS CheckDir: CNORode.Rcheck Warnings: 2