Package: CNORode Version: 1.48.0 Command: /home/biocbuild/bbs-3.20-bioc/R/bin/R CMD build --keep-empty-dirs --no-resave-data --md5 CNORode StartedAt: 2025-01-30 16:45:02 -0500 (Thu, 30 Jan 2025) EndedAt: 2025-01-30 16:45:31 -0500 (Thu, 30 Jan 2025) EllapsedTime: 29.0 seconds RetCode: 0 Status: OK PackageFile: CNORode_1.48.0.tar.gz PackageFileSize: 492.1 KiB