Package: CNORfuzzy Version: 1.48.0 Command: /home/biocbuild/R/R/bin/R CMD build --keep-empty-dirs --no-resave-data CNORfuzzy StartedAt: 2025-01-30 22:43:33 -0000 (Thu, 30 Jan 2025) EndedAt: 2025-01-30 22:43:59 -0000 (Thu, 30 Jan 2025) EllapsedTime: 26.0 seconds RetCode: 0 Status: OK PackageFile: CNORfuzzy_1.48.0.tar.gz PackageFileSize: 911.3 KiB