Package: CNORfuzzy Version: 1.48.0 Command: chmod a+r CNORfuzzy -R && F:\biocbuild\bbs-3.20-bioc\R\bin\R.exe CMD build --keep-empty-dirs --no-resave-data CNORfuzzy StartedAt: 2025-01-30 18:01:48 -0500 (Thu, 30 Jan 2025) EndedAt: 2025-01-30 18:02:29 -0500 (Thu, 30 Jan 2025) EllapsedTime: 41.0 seconds RetCode: 0 Status: OK PackageFile: CNORfuzzy_1.48.0.tar.gz PackageFileSize: 923.1 KiB