Package: CNORfuzzy Version: 1.48.0 Command: /Library/Frameworks/R.framework/Resources/bin/R CMD check --install=check:CNORfuzzy.install-out.txt --library=/Library/Frameworks/R.framework/Resources/library --no-vignettes --timings CNORfuzzy_1.48.0.tar.gz StartedAt: 2025-01-31 14:52:52 -0500 (Fri, 31 Jan 2025) EndedAt: 2025-01-31 14:54:12 -0500 (Fri, 31 Jan 2025) EllapsedTime: 80.6 seconds RetCode: 0 Status: OK CheckDir: CNORfuzzy.Rcheck Warnings: 0