Package: CNORdt Version: 1.48.0 Command: /Library/Frameworks/R.framework/Resources/bin/R CMD check --install=check:CNORdt.install-out.txt --library=/Library/Frameworks/R.framework/Resources/library --no-vignettes --timings CNORdt_1.48.0.tar.gz StartedAt: 2025-01-31 14:51:20 -0500 (Fri, 31 Jan 2025) EndedAt: 2025-01-31 14:53:21 -0500 (Fri, 31 Jan 2025) EllapsedTime: 120.8 seconds RetCode: 0 Status: OK CheckDir: CNORdt.Rcheck Warnings: 0