Package: CNEr Version: 1.42.0 Command: /home/biocbuild/R/R/bin/R CMD INSTALL CNEr StartedAt: 2025-01-30 20:24:04 -0000 (Thu, 30 Jan 2025) EndedAt: 2025-01-30 20:25:11 -0000 (Thu, 30 Jan 2025) EllapsedTime: 67.2 seconds RetCode: 0 Status: OK