Package: CNEr Version: 1.42.0 Command: /home/biocbuild/bbs-3.20-bioc/R/bin/R CMD build --keep-empty-dirs --no-resave-data --md5 CNEr StartedAt: 2025-01-30 16:44:37 -0500 (Thu, 30 Jan 2025) EndedAt: 2025-01-30 16:46:19 -0500 (Thu, 30 Jan 2025) EllapsedTime: 102.1 seconds RetCode: 0 Status: OK PackageFile: CNEr_1.42.0.tar.gz PackageFileSize: 9.587 MiB