Package: CNEr Version: 1.42.0 Command: /Library/Frameworks/R.framework/Resources/bin/R CMD INSTALL CNEr StartedAt: 2025-01-30 15:54:34 -0500 (Thu, 30 Jan 2025) EndedAt: 2025-01-30 15:55:36 -0500 (Thu, 30 Jan 2025) EllapsedTime: 62.1 seconds RetCode: 0 Status: OK