Package: CNEr Version: 1.42.0 Command: /Library/Frameworks/R.framework/Resources/bin/R CMD build --keep-empty-dirs --no-resave-data CNEr StartedAt: 2025-01-30 21:09:09 -0500 (Thu, 30 Jan 2025) EndedAt: 2025-01-30 21:11:22 -0500 (Thu, 30 Jan 2025) EllapsedTime: 132.8 seconds RetCode: 0 Status: OK PackageFile: CNEr_1.42.0.tar.gz PackageFileSize: 9.599 MiB