Package: CIMICE Version: 1.14.0 Command: /home/biocbuild/R/R/bin/R CMD check --install=check:CIMICE.install-out.txt --library=/home/biocbuild/R/R/site-library --no-vignettes --timings CIMICE_1.14.0.tar.gz StartedAt: 2025-01-31 04:53:37 -0000 (Fri, 31 Jan 2025) EndedAt: 2025-01-31 04:54:57 -0000 (Fri, 31 Jan 2025) EllapsedTime: 80.0 seconds RetCode: 0 Status: OK CheckDir: CIMICE.Rcheck Warnings: 0