Package: CIMICE Version: 1.14.0 Command: chmod a+r CIMICE -R && F:\biocbuild\bbs-3.20-bioc\R\bin\R.exe CMD build --keep-empty-dirs --no-resave-data CIMICE StartedAt: 2025-01-30 17:56:05 -0500 (Thu, 30 Jan 2025) EndedAt: 2025-01-30 17:56:52 -0500 (Thu, 30 Jan 2025) EllapsedTime: 46.9 seconds RetCode: 0 Status: OK PackageFile: CIMICE_1.14.0.tar.gz PackageFileSize: 1.303 MiB