Package: CHRONOS Version: 1.34.0 Command: F:\biocbuild\bbs-3.20-bioc\R\bin\R.exe CMD INSTALL CHRONOS StartedAt: 2025-01-30 16:52:17 -0500 (Thu, 30 Jan 2025) EndedAt: 2025-01-30 16:52:57 -0500 (Thu, 30 Jan 2025) EllapsedTime: 39.9 seconds RetCode: 0 Status: OK