Package: CHRONOS Version: 1.34.0 Command: F:\biocbuild\bbs-3.20-bioc\R\bin\R.exe CMD check --no-multiarch --install=check:CHRONOS.install-out.txt --library=F:\biocbuild\bbs-3.20-bioc\R\library --no-vignettes --timings CHRONOS_1.34.0.tar.gz StartedAt: 2025-01-31 00:29:26 -0500 (Fri, 31 Jan 2025) EndedAt: 2025-01-31 00:32:47 -0500 (Fri, 31 Jan 2025) EllapsedTime: 201.1 seconds RetCode: 0 Status: OK CheckDir: CHRONOS.Rcheck Warnings: 0