Package: CHETAH Version: 1.22.0 Command: /home/biocbuild/R/R/bin/R CMD build --keep-empty-dirs --no-resave-data CHETAH StartedAt: 2025-01-30 22:31:33 -0000 (Thu, 30 Jan 2025) EndedAt: 2025-01-30 22:32:52 -0000 (Thu, 30 Jan 2025) EllapsedTime: 79.0 seconds RetCode: 0 Status: OK PackageFile: CHETAH_1.22.0.tar.gz PackageFileSize: 3.31 MiB