Package: CHETAH Version: 1.22.0 Command: chmod a+r CHETAH -R && F:\biocbuild\bbs-3.20-bioc\R\bin\R.exe CMD build --keep-empty-dirs --no-resave-data CHETAH StartedAt: 2025-01-30 17:52:38 -0500 (Thu, 30 Jan 2025) EndedAt: 2025-01-30 17:53:58 -0500 (Thu, 30 Jan 2025) EllapsedTime: 79.7 seconds RetCode: 0 Status: OK PackageFile: CHETAH_1.22.0.tar.gz PackageFileSize: 3.258 MiB