Package: CHETAH Version: 1.22.0 Command: /Library/Frameworks/R.framework/Resources/bin/R CMD INSTALL CHETAH StartedAt: 2025-01-30 16:51:00 -0500 (Thu, 30 Jan 2025) EndedAt: 2025-01-30 16:51:33 -0500 (Thu, 30 Jan 2025) EllapsedTime: 32.4 seconds RetCode: 0 Status: OK