Package: CGHnormaliter Version: 1.60.0 Command: /home/biocbuild/R/R/bin/R CMD INSTALL CGHnormaliter StartedAt: 2025-01-30 20:13:24 -0000 (Thu, 30 Jan 2025) EndedAt: 2025-01-30 20:13:29 -0000 (Thu, 30 Jan 2025) EllapsedTime: 5.1 seconds RetCode: 0 Status: OK