Package: CGHnormaliter Version: 1.60.0 Command: /home/biocbuild/R/R/bin/R CMD build --keep-empty-dirs --no-resave-data CGHnormaliter StartedAt: 2025-01-30 22:31:06 -0000 (Thu, 30 Jan 2025) EndedAt: 2025-01-30 22:32:05 -0000 (Thu, 30 Jan 2025) EllapsedTime: 59.0 seconds RetCode: 0 Status: OK PackageFile: CGHnormaliter_1.60.0.tar.gz PackageFileSize: 1.239 MiB