Package: CGHnormaliter Version: 1.60.0 Command: /home/biocbuild/bbs-3.20-bioc/R/bin/R CMD check --install=check:CGHnormaliter.install-out.txt --library=/home/biocbuild/bbs-3.20-bioc/R/site-library --timings CGHnormaliter_1.60.0.tar.gz StartedAt: 2025-01-30 20:43:31 -0500 (Thu, 30 Jan 2025) EndedAt: 2025-01-30 20:45:32 -0500 (Thu, 30 Jan 2025) EllapsedTime: 121.2 seconds RetCode: 0 Status: OK CheckDir: CGHnormaliter.Rcheck Warnings: 0