Package: CGHcall Version: 2.68.0 Command: /home/biocbuild/bbs-3.20-bioc/R/bin/R CMD check --install=check:CGHcall.install-out.txt --library=/home/biocbuild/bbs-3.20-bioc/R/site-library --timings CGHcall_2.68.0.tar.gz StartedAt: 2025-01-30 20:43:06 -0500 (Thu, 30 Jan 2025) EndedAt: 2025-01-30 20:43:51 -0500 (Thu, 30 Jan 2025) EllapsedTime: 45.1 seconds RetCode: 0 Status: WARNINGS CheckDir: CGHcall.Rcheck Warnings: 1