Package: CGEN Version: 3.42.0 Command: /Library/Frameworks/R.framework/Resources/bin/R CMD build --keep-empty-dirs --no-resave-data CGEN StartedAt: 2025-01-30 20:31:49 -0500 (Thu, 30 Jan 2025) EndedAt: 2025-01-30 20:32:35 -0500 (Thu, 30 Jan 2025) EllapsedTime: 45.6 seconds RetCode: 0 Status: OK PackageFile: CGEN_3.42.0.tar.gz PackageFileSize: 980.1 KiB