Package: CFAssay Version: 1.40.0 Command: rm -rf CFAssay.buildbin-libdir && mkdir CFAssay.buildbin-libdir && /Users/biocbuild/BBS/utils/build-universal.sh CFAssay_1.40.0.tar.gz /Library/Frameworks/R.framework/Resources/bin/R CFAssay.buildbin-libdir StartedAt: 2025-02-01 14:14:56 -0500 (Sat, 01 Feb 2025) EndedAt: 2025-02-01 14:15:01 -0500 (Sat, 01 Feb 2025) EllapsedTime: 4.6 seconds RetCode: 0 Status: OK PackageFile: CFAssay_1.40.0.tgz PackageFileSize: 397.9 KiB