Package: CBNplot Version: 1.6.0 Command: /home/biocbuild/bbs-3.20-bioc/R/bin/R CMD check --install=check:CBNplot.install-out.txt --library=/home/biocbuild/bbs-3.20-bioc/R/site-library --timings CBNplot_1.6.0.tar.gz StartedAt: 2024-11-19 23:57:24 -0500 (Tue, 19 Nov 2024) EndedAt: 2024-11-20 00:02:00 -0500 (Wed, 20 Nov 2024) EllapsedTime: 276.6 seconds RetCode: 0 Status: OK CheckDir: CBNplot.Rcheck Warnings: 0