Package: CBEA Version: 1.6.0 Command: /Library/Frameworks/R.framework/Resources/bin/R CMD INSTALL CBEA StartedAt: 2024-11-19 15:33:45 -0500 (Tue, 19 Nov 2024) EndedAt: 2024-11-19 15:34:39 -0500 (Tue, 19 Nov 2024) EllapsedTime: 53.4 seconds RetCode: 0 Status: OK