Package: CARNIVAL Version: 2.16.0 Command: rm -rf CARNIVAL.buildbin-libdir && mkdir CARNIVAL.buildbin-libdir && F:\biocbuild\bbs-3.20-bioc\R\bin\R.exe CMD INSTALL --build --library=CARNIVAL.buildbin-libdir CARNIVAL_2.16.0.tar.gz StartedAt: 2025-01-31 08:18:09 -0500 (Fri, 31 Jan 2025) EndedAt: 2025-01-31 08:18:51 -0500 (Fri, 31 Jan 2025) EllapsedTime: 41.9 seconds RetCode: 0 Status: OK PackageFile: CARNIVAL_2.16.0.zip PackageFileSize: 420.9 KiB