Package: BufferedMatrix Version: 1.70.0 Command: /home/biocbuild/bbs-3.20-bioc/R/bin/R CMD INSTALL BufferedMatrix StartedAt: 2025-01-30 15:04:31 -0500 (Thu, 30 Jan 2025) EndedAt: 2025-01-30 15:04:36 -0500 (Thu, 30 Jan 2025) EllapsedTime: 4.8 seconds RetCode: 0 Status: OK