Package: BufferedMatrix Version: 1.70.0 Command: rm -rf BufferedMatrix.buildbin-libdir && mkdir BufferedMatrix.buildbin-libdir && /Users/biocbuild/BBS/utils/build-universal.sh BufferedMatrix_1.70.0.tar.gz /Library/Frameworks/R.framework/Resources/bin/R BufferedMatrix.buildbin-libdir StartedAt: 2025-01-31 12:26:48 -0500 (Fri, 31 Jan 2025) EndedAt: 2025-01-31 12:27:03 -0500 (Fri, 31 Jan 2025) EllapsedTime: 15.2 seconds RetCode: 0 Status: OK PackageFile: BufferedMatrix_1.70.0.tgz PackageFileSize: 710.2 KiB