Package: BufferedMatrix Version: 1.70.0 Command: /Library/Frameworks/R.framework/Resources/bin/R CMD check --install=check:BufferedMatrix.install-out.txt --library=/Library/Frameworks/R.framework/Resources/library --no-vignettes --timings BufferedMatrix_1.70.0.tar.gz StartedAt: 2025-01-31 13:04:43 -0500 (Fri, 31 Jan 2025) EndedAt: 2025-01-31 13:05:22 -0500 (Fri, 31 Jan 2025) EllapsedTime: 39.0 seconds RetCode: 0 Status: WARNINGS CheckDir: BufferedMatrix.Rcheck Warnings: 1