Package: BufferedMatrix Version: 1.70.0 Command: /Library/Frameworks/R.framework/Resources/bin/R CMD build --keep-empty-dirs --no-resave-data BufferedMatrix StartedAt: 2025-01-30 20:01:27 -0500 (Thu, 30 Jan 2025) EndedAt: 2025-01-30 20:01:43 -0500 (Thu, 30 Jan 2025) EllapsedTime: 16.1 seconds RetCode: 0 Status: OK PackageFile: BufferedMatrix_1.70.0.tar.gz PackageFileSize: 629.2 KiB