Package: BridgeDbR Version: 2.16.0 Command: /home/biocbuild/R/R/bin/R CMD check --install=check:BridgeDbR.install-out.txt --library=/home/biocbuild/R/R/site-library --no-vignettes --timings BridgeDbR_2.16.0.tar.gz StartedAt: 2025-01-31 04:31:27 -0000 (Fri, 31 Jan 2025) EndedAt: 2025-01-31 04:31:58 -0000 (Fri, 31 Jan 2025) EllapsedTime: 31.0 seconds RetCode: 0 Status: OK CheckDir: BridgeDbR.Rcheck Warnings: 0