Package: BridgeDbR Version: 2.16.0 Command: F:\biocbuild\bbs-3.20-bioc\R\bin\R.exe CMD INSTALL BridgeDbR StartedAt: 2025-01-30 15:19:08 -0500 (Thu, 30 Jan 2025) EndedAt: 2025-01-30 15:19:23 -0500 (Thu, 30 Jan 2025) EllapsedTime: 15.3 seconds RetCode: 0 Status: OK