Package: BloodGen3Module Version: 1.14.0 Command: chmod a+r BloodGen3Module -R && F:\biocbuild\bbs-3.20-bioc\R\bin\R.exe CMD build --keep-empty-dirs --no-resave-data BloodGen3Module StartedAt: 2025-01-30 17:38:38 -0500 (Thu, 30 Jan 2025) EndedAt: 2025-01-30 17:40:10 -0500 (Thu, 30 Jan 2025) EllapsedTime: 92.3 seconds RetCode: 0 Status: OK PackageFile: BloodGen3Module_1.14.0.tar.gz PackageFileSize: 179 KiB