Package: BiocVersion Version: 3.20.0 Command: /home/biocbuild/R/R/bin/R CMD check --install=check:BiocVersion.install-out.txt --library=/home/biocbuild/R/R/site-library --no-vignettes --timings BiocVersion_3.20.0.tar.gz StartedAt: 2025-01-31 04:13:07 -0000 (Fri, 31 Jan 2025) EndedAt: 2025-01-31 04:13:29 -0000 (Fri, 31 Jan 2025) EllapsedTime: 22.0 seconds RetCode: 0 Status: OK CheckDir: BiocVersion.Rcheck Warnings: 0