Package: BiocVersion Version: 3.20.0 Command: /home/biocbuild/bbs-3.20-bioc/R/bin/R CMD build --keep-empty-dirs --no-resave-data --md5 BiocVersion StartedAt: 2025-01-30 16:25:38 -0500 (Thu, 30 Jan 2025) EndedAt: 2025-01-30 16:25:39 -0500 (Thu, 30 Jan 2025) EllapsedTime: 1.0 seconds RetCode: 0 Status: OK PackageFile: BiocVersion_3.20.0.tar.gz PackageFileSize: 1.08 KiB