Package: BiocSingular Version: 1.22.0 Command: /home/biocbuild/R/R/bin/R CMD INSTALL BiocSingular StartedAt: 2025-01-30 20:58:38 -0000 (Thu, 30 Jan 2025) EndedAt: 2025-01-30 20:59:15 -0000 (Thu, 30 Jan 2025) EllapsedTime: 37.5 seconds RetCode: 0 Status: OK