Package: BiocSingular Version: 1.22.0 Command: /home/biocbuild/R/R/bin/R CMD build --keep-empty-dirs --no-resave-data BiocSingular StartedAt: 2025-01-30 22:01:33 -0000 (Thu, 30 Jan 2025) EndedAt: 2025-01-30 22:02:20 -0000 (Thu, 30 Jan 2025) EllapsedTime: 47.0 seconds RetCode: 0 Status: OK PackageFile: BiocSingular_1.22.0.tar.gz PackageFileSize: 733.4 KiB