Package: BiocSingular Version: 1.22.0 Command: rm -rf BiocSingular.buildbin-libdir && mkdir BiocSingular.buildbin-libdir && /Users/biocbuild/BBS/utils/build-universal.sh BiocSingular_1.22.0.tar.gz /Library/Frameworks/R.framework/Resources/bin/R BiocSingular.buildbin-libdir StartedAt: 2025-01-31 12:24:25 -0500 (Fri, 31 Jan 2025) EndedAt: 2025-01-31 12:25:29 -0500 (Fri, 31 Jan 2025) EllapsedTime: 64.0 seconds RetCode: 0 Status: OK PackageFile: BiocSingular_1.22.0.tgz PackageFileSize: 931.1 KiB