Package: BiocSingular Version: 1.22.0 Command: /Library/Frameworks/R.framework/Resources/bin/R CMD INSTALL BiocSingular StartedAt: 2025-01-30 17:46:52 -0500 (Thu, 30 Jan 2025) EndedAt: 2025-01-30 17:47:23 -0500 (Thu, 30 Jan 2025) EllapsedTime: 30.1 seconds RetCode: 0 Status: OK