Package: BiocNeighbors Version: 2.0.1 Command: chmod a+r BiocNeighbors -R && F:\biocbuild\bbs-3.20-bioc\R\bin\R.exe CMD build --keep-empty-dirs --no-resave-data BiocNeighbors StartedAt: 2025-01-30 17:33:31 -0500 (Thu, 30 Jan 2025) EndedAt: 2025-01-30 17:35:36 -0500 (Thu, 30 Jan 2025) EllapsedTime: 124.9 seconds RetCode: 0 Status: OK PackageFile: BiocNeighbors_2.0.1.tar.gz PackageFileSize: 329 KiB