Package: BiocNeighbors Version: 2.0.1 Command: rm -rf BiocNeighbors.buildbin-libdir && mkdir BiocNeighbors.buildbin-libdir && F:\biocbuild\bbs-3.20-bioc\R\bin\R.exe CMD INSTALL --build --library=BiocNeighbors.buildbin-libdir BiocNeighbors_2.0.1.tar.gz StartedAt: 2025-01-31 08:13:47 -0500 (Fri, 31 Jan 2025) EndedAt: 2025-01-31 08:15:46 -0500 (Fri, 31 Jan 2025) EllapsedTime: 119.1 seconds RetCode: 0 Status: OK PackageFile: BiocNeighbors_2.0.1.zip PackageFileSize: 1 MiB